BEGIN:VCALENDAR
VERSION:2.0
PRODID:-//BAPA Network - ECPv6.15.20//NONSGML v1.0//EN
CALSCALE:GREGORIAN
METHOD:PUBLISH
X-ORIGINAL-URL:https://bapanetwork.org
X-WR-CALDESC:Events for BAPA Network
REFRESH-INTERVAL;VALUE=DURATION:PT1H
X-Robots-Tag:noindex
X-PUBLISHED-TTL:PT1H
BEGIN:VTIMEZONE
TZID:America/Chicago
BEGIN:DAYLIGHT
TZOFFSETFROM:-0600
TZOFFSETTO:-0500
TZNAME:CDT
DTSTART:20240310T080000
END:DAYLIGHT
BEGIN:STANDARD
TZOFFSETFROM:-0500
TZOFFSETTO:-0600
TZNAME:CST
DTSTART:20241103T070000
END:STANDARD
BEGIN:DAYLIGHT
TZOFFSETFROM:-0600
TZOFFSETTO:-0500
TZNAME:CDT
DTSTART:20250309T080000
END:DAYLIGHT
BEGIN:STANDARD
TZOFFSETFROM:-0500
TZOFFSETTO:-0600
TZNAME:CST
DTSTART:20251102T070000
END:STANDARD
BEGIN:DAYLIGHT
TZOFFSETFROM:-0600
TZOFFSETTO:-0500
TZNAME:CDT
DTSTART:20260308T080000
END:DAYLIGHT
BEGIN:STANDARD
TZOFFSETFROM:-0500
TZOFFSETTO:-0600
TZNAME:CST
DTSTART:20261101T070000
END:STANDARD
END:VTIMEZONE
BEGIN:VEVENT
DTSTART;TZID=America/Chicago:20251214T150000
DTEND;TZID=America/Chicago:20251214T170000
DTSTAMP:20260424T165459
CREATED:20251201T033547Z
LAST-MODIFIED:20251203T183927Z
UID:24119-1765724400-1765731600@bapanetwork.org
SUMMARY:In-Person Fildžan Kahve: Chicago\, IL
DESCRIPTION:Giving Back: Volunteering and Philanthropy in the Bosnian American Community  \nJoin us for our next in-person Fildžan Kahve networking event in Chicago! We will discuss opportunities to get more involved with the Bosnian community through volunteering in Chicago. \nJoin BAPA’s Board Members at CUPITOL @ Old Orchard on 12/14 at 3PM CST. \n 
URL:https://bapanetwork.org/event/chicago-in-person-fildzan-kahve/
LOCATION:CUPITOL\, 4999 Old Orchard Shopping Center\, A26\, Skokie\, 60077
CATEGORIES:Fildzan Kahve,Networking
ATTACH;FMTTYPE=image/jpeg:https://bapanetwork.org/wp-content/uploads/2025/11/Turkish-coffee-lokum-1024x669-1.jpeg
END:VEVENT
END:VCALENDAR