BEGIN:VCALENDAR
VERSION:2.0
PRODID:-//BAPA Network - ECPv6.15.20//NONSGML v1.0//EN
CALSCALE:GREGORIAN
METHOD:PUBLISH
X-WR-CALNAME:BAPA Network
X-ORIGINAL-URL:https://bapanetwork.org
X-WR-CALDESC:Events for BAPA Network
REFRESH-INTERVAL;VALUE=DURATION:PT1H
X-Robots-Tag:noindex
X-PUBLISHED-TTL:PT1H
BEGIN:VTIMEZONE
TZID:America/Chicago
BEGIN:DAYLIGHT
TZOFFSETFROM:-0600
TZOFFSETTO:-0500
TZNAME:CDT
DTSTART:20220313T080000
END:DAYLIGHT
BEGIN:STANDARD
TZOFFSETFROM:-0500
TZOFFSETTO:-0600
TZNAME:CST
DTSTART:20221106T070000
END:STANDARD
BEGIN:DAYLIGHT
TZOFFSETFROM:-0600
TZOFFSETTO:-0500
TZNAME:CDT
DTSTART:20230312T080000
END:DAYLIGHT
BEGIN:STANDARD
TZOFFSETFROM:-0500
TZOFFSETTO:-0600
TZNAME:CST
DTSTART:20231105T070000
END:STANDARD
BEGIN:DAYLIGHT
TZOFFSETFROM:-0600
TZOFFSETTO:-0500
TZNAME:CDT
DTSTART:20240310T080000
END:DAYLIGHT
BEGIN:STANDARD
TZOFFSETFROM:-0500
TZOFFSETTO:-0600
TZNAME:CST
DTSTART:20241103T070000
END:STANDARD
BEGIN:DAYLIGHT
TZOFFSETFROM:-0600
TZOFFSETTO:-0500
TZNAME:CDT
DTSTART:20250309T080000
END:DAYLIGHT
BEGIN:STANDARD
TZOFFSETFROM:-0500
TZOFFSETTO:-0600
TZNAME:CST
DTSTART:20251102T070000
END:STANDARD
END:VTIMEZONE
BEGIN:VEVENT
DTSTART;TZID=America/Chicago:20240529T190000
DTEND;TZID=America/Chicago:20240529T200000
DTSTAMP:20260424T204101
CREATED:20240529T182731Z
LAST-MODIFIED:20240529T182932Z
UID:21378-1717009200-1717012800@bapanetwork.org
SUMMARY:Virtual Fildzan Kahve Wed May 29 Azra Treil
DESCRIPTION:Missed the in-person Fildžan Kahve? No worries! Join us for a virtual one on Wednesday\, May 29th at 8pm EST. Hang out with our newest board member\, Azra Treil\, and connect with us! RSVP on our website now. ☕✨ \nRSVP – https://lnkd.in/eNPPueHP
URL:https://bapanetwork.org/event/virtual-fildzan-kahve-wed-may-29-azra-treil/
LOCATION:WA
CATEGORIES:Virtual Fildzan Kahve
ATTACH;FMTTYPE=image/jpeg:https://bapanetwork.org/wp-content/uploads/2024/05/1716655971083.jpg
END:VEVENT
BEGIN:VEVENT
DTSTART;TZID=America/Chicago:20240511T110000
DTEND;TZID=America/Chicago:20240511T140000
DTSTAMP:20260424T204101
CREATED:20240429T181404Z
LAST-MODIFIED:20240430T225620Z
UID:21303-1715425200-1715436000@bapanetwork.org
SUMMARY:In-Person Fildzan Kahve
DESCRIPTION:Join BAPA at the Yale Club for an exciting in-person networking event! RSVP by May 8th to ensure a spot.
URL:https://bapanetwork.org/event/in-person-fildzan-kahve/
LOCATION:Yale Club Library\, 50 Vanderbilt Ave #1\, New York\, NY\, 10017\, United States
CATEGORIES:Networking
END:VEVENT
BEGIN:VEVENT
DTSTART;TZID=America/Chicago:20240307T190000
DTEND;TZID=America/Chicago:20240307T200000
DTSTAMP:20260424T204101
CREATED:20200909T090220Z
LAST-MODIFIED:20240421T191124Z
UID:2054-1709838000-1709841600@bapanetwork.org
SUMMARY:Scholarship Q&A Zoom
DESCRIPTION:Join us for this opportunity to ask questions about our Scholarship Application process!
URL:https://bapanetwork.org/event/scholarship-qa-zoom/
LOCATION:WA
CATEGORIES:Scholarship Q&A
ATTACH;FMTTYPE=image/jpeg:https://bapanetwork.org/wp-content/uploads/2020/09/give-3.jpg
END:VEVENT
BEGIN:VEVENT
DTSTART;VALUE=DATE:20230929
DTEND;VALUE=DATE:20231002
DTSTAMP:20260424T204101
CREATED:20240529T181534Z
LAST-MODIFIED:20240529T181651Z
UID:21371-1695945600-1696204799@bapanetwork.org
SUMMARY:Tenth Annual Forum Jacksonville 2023
DESCRIPTION:The 2023 BAPA Forum was held in Jacksonville\, FL\, where we celebrated our 10th annual forum! During the forum we featured our scholarship recipients Hanadi Dreca\, Nejla Kravic\, Ella Daudbasic\, and Benjamin Selimotic. The students presentations were followed by a panel discussion. The panel included Indir Avdagic\, Almas Sehic\, and Jasmine Avdagic-Carpenter. The discussion covered topics around Creativity & Innovation\, Entrepreneurship\, Leadership & Management. The forum featured two engaging breakout sessions—one for speed networking and another for cultural appreciation—providing our attendees with ample opportunities to connect and interact. To conclude the 10th annual forum\, Falcon Ventures took center stage\, shedding light on the venture capital landscape in the Balkans\, with a special focus on Bosnia & Herzegovina. \n​ \nThe 2023 BAPA Forum wouldn’t have been possible without the following sponsors: Falcon Ventures (Gold Sponsor)\, The Duric Family (Silver Sponsor)\, IMBiH (Bronze Sponsor)\, The Hodzic Family (Bronze Sponsor)\, The Husic Family (Bronze Sponsor)\, and The Kapo Family (Bronze Sponsor). Thank you all!
URL:https://bapanetwork.org/event/tenth-annual-forum-jacksonville-2023/
LOCATION:WA
CATEGORIES:Forum
ATTACH;FMTTYPE=image/webp:https://bapanetwork.org/wp-content/uploads/2024/05/lance-asper-woDxDNvpmdk-unsplash.webp
END:VEVENT
END:VCALENDAR