BEGIN:VCALENDAR
VERSION:2.0
PRODID:-//BAPA Network - ECPv6.15.20//NONSGML v1.0//EN
CALSCALE:GREGORIAN
METHOD:PUBLISH
X-ORIGINAL-URL:https://bapanetwork.org
X-WR-CALDESC:Events for BAPA Network
REFRESH-INTERVAL;VALUE=DURATION:PT1H
X-Robots-Tag:noindex
X-PUBLISHED-TTL:PT1H
BEGIN:VTIMEZONE
TZID:America/Chicago
BEGIN:DAYLIGHT
TZOFFSETFROM:-0600
TZOFFSETTO:-0500
TZNAME:CDT
DTSTART:20250309T080000
END:DAYLIGHT
BEGIN:STANDARD
TZOFFSETFROM:-0500
TZOFFSETTO:-0600
TZNAME:CST
DTSTART:20251102T070000
END:STANDARD
BEGIN:DAYLIGHT
TZOFFSETFROM:-0600
TZOFFSETTO:-0500
TZNAME:CDT
DTSTART:20260308T080000
END:DAYLIGHT
BEGIN:STANDARD
TZOFFSETFROM:-0500
TZOFFSETTO:-0600
TZNAME:CST
DTSTART:20261101T070000
END:STANDARD
BEGIN:DAYLIGHT
TZOFFSETFROM:-0600
TZOFFSETTO:-0500
TZNAME:CDT
DTSTART:20270314T080000
END:DAYLIGHT
BEGIN:STANDARD
TZOFFSETFROM:-0500
TZOFFSETTO:-0600
TZNAME:CST
DTSTART:20271107T070000
END:STANDARD
END:VTIMEZONE
BEGIN:VTIMEZONE
TZID:America/New_York
BEGIN:DAYLIGHT
TZOFFSETFROM:-0500
TZOFFSETTO:-0400
TZNAME:EDT
DTSTART:20250309T070000
END:DAYLIGHT
BEGIN:STANDARD
TZOFFSETFROM:-0400
TZOFFSETTO:-0500
TZNAME:EST
DTSTART:20251102T060000
END:STANDARD
BEGIN:DAYLIGHT
TZOFFSETFROM:-0500
TZOFFSETTO:-0400
TZNAME:EDT
DTSTART:20260308T070000
END:DAYLIGHT
BEGIN:STANDARD
TZOFFSETFROM:-0400
TZOFFSETTO:-0500
TZNAME:EST
DTSTART:20261101T060000
END:STANDARD
BEGIN:DAYLIGHT
TZOFFSETFROM:-0500
TZOFFSETTO:-0400
TZNAME:EDT
DTSTART:20270314T070000
END:DAYLIGHT
BEGIN:STANDARD
TZOFFSETFROM:-0400
TZOFFSETTO:-0500
TZNAME:EST
DTSTART:20271107T060000
END:STANDARD
END:VTIMEZONE
BEGIN:VTIMEZONE
TZID:America/Los_Angeles
BEGIN:DAYLIGHT
TZOFFSETFROM:-0800
TZOFFSETTO:-0700
TZNAME:PDT
DTSTART:20250309T100000
END:DAYLIGHT
BEGIN:STANDARD
TZOFFSETFROM:-0700
TZOFFSETTO:-0800
TZNAME:PST
DTSTART:20251102T090000
END:STANDARD
BEGIN:DAYLIGHT
TZOFFSETFROM:-0800
TZOFFSETTO:-0700
TZNAME:PDT
DTSTART:20260308T100000
END:DAYLIGHT
BEGIN:STANDARD
TZOFFSETFROM:-0700
TZOFFSETTO:-0800
TZNAME:PST
DTSTART:20261101T090000
END:STANDARD
BEGIN:DAYLIGHT
TZOFFSETFROM:-0800
TZOFFSETTO:-0700
TZNAME:PDT
DTSTART:20270314T100000
END:DAYLIGHT
BEGIN:STANDARD
TZOFFSETFROM:-0700
TZOFFSETTO:-0800
TZNAME:PST
DTSTART:20271107T090000
END:STANDARD
END:VTIMEZONE
BEGIN:VTIMEZONE
TZID:America/Detroit
BEGIN:DAYLIGHT
TZOFFSETFROM:-0500
TZOFFSETTO:-0400
TZNAME:EDT
DTSTART:20250309T070000
END:DAYLIGHT
BEGIN:STANDARD
TZOFFSETFROM:-0400
TZOFFSETTO:-0500
TZNAME:EST
DTSTART:20251102T060000
END:STANDARD
BEGIN:DAYLIGHT
TZOFFSETFROM:-0500
TZOFFSETTO:-0400
TZNAME:EDT
DTSTART:20260308T070000
END:DAYLIGHT
BEGIN:STANDARD
TZOFFSETFROM:-0400
TZOFFSETTO:-0500
TZNAME:EST
DTSTART:20261101T060000
END:STANDARD
BEGIN:DAYLIGHT
TZOFFSETFROM:-0500
TZOFFSETTO:-0400
TZNAME:EDT
DTSTART:20270314T070000
END:DAYLIGHT
BEGIN:STANDARD
TZOFFSETFROM:-0400
TZOFFSETTO:-0500
TZNAME:EST
DTSTART:20271107T060000
END:STANDARD
END:VTIMEZONE
BEGIN:VEVENT
DTSTART;TZID=America/Chicago:20260115T190000
DTEND;TZID=America/Chicago:20260115T200000
DTSTAMP:20260424T184234
CREATED:20251221T232727Z
LAST-MODIFIED:20251222T005948Z
UID:24246-1768503600-1768507200@bapanetwork.org
SUMMARY:Industry Specific Roundtable Series: Healthcare Professionals
DESCRIPTION:Join us for our first Industry Specific Roundtable for Healthcare Professionals! \nThis event will be hosted by Board Members Elvisa Alikadić and Sanela Gazić\, cohosted by Adnan Kurtović\, M.D. Dermatology\, and Amina Nasufović\, Health Program Specialist. \nJoin our event via Zoom: \n\nMeeting ID: 836 2338 9990\nPasscode: 915878\n\n 
URL:https://bapanetwork.org/event/industry-specific-roundtable-series-healthcare-professionals/
CATEGORIES:Industry Specific,Industry Specific Roundtable Series
ATTACH;FMTTYPE=image/jpeg:https://bapanetwork.org/wp-content/uploads/2025/12/istockphoto-1307162604-612x612-1.jpg
END:VEVENT
BEGIN:VEVENT
DTSTART;TZID=America/Chicago:20260118T120000
DTEND;TZID=America/Chicago:20260118T140000
DTSTAMP:20260424T184234
CREATED:20251228T195026Z
LAST-MODIFIED:20251228T195026Z
UID:24181-1768737600-1768744800@bapanetwork.org
SUMMARY:In-Person Fildžan Kahve: St. Louis\, MO
DESCRIPTION:Podnevna kahva: Fildžan priče i druženje sa Adinom i Aminom! \nJoin us for our next in-person Fildžan Kahve networking event in St. Louis! \nJoin BAPA’s Board Members at Cafe Fleur De Lis on 1/18/26 at 12PM CST. A little noon break\, Bosnian style. Come by for a Fildžan Kahve\, community\, good conversation\, and that feeling of being back home.
URL:https://bapanetwork.org/event/in-person-fildzan-kahve-st-louis-mo/
LOCATION:Cafe Fleur De Lis\, 5569 Telegraph Rd\, St. Louis\, MO\, 63129\, United States
CATEGORIES:Fildzan Kahve
ATTACH;FMTTYPE=image/jpeg:https://bapanetwork.org/wp-content/uploads/2025/12/unnamed.jpg
END:VEVENT
BEGIN:VEVENT
DTSTART;TZID=America/New_York:20260131T170000
DTEND;TZID=America/New_York:20260131T193000
DTSTAMP:20260424T184234
CREATED:20251228T215249Z
LAST-MODIFIED:20260119T004952Z
UID:24339-1769878800-1769887800@bapanetwork.org
SUMMARY:NYC Fundraiser Social
DESCRIPTION:NYC\, we’re coming together! \nJoin us January 31st at AnTalia for a fundraiser social supporting the 2026 BAPA Scholarship Fund. This evening is about introducing the NYC community to BAPA and our mission\, celebrating education\, and investing in the next generation. \nIt’s also a special moment to bring NYC’s Bosnian-American community together – to connect\, network\, and share space. \nA heartfelt thank you to our friends at AnTalia for helping make this event possible. Enjoy an evening of connection and great food with a family-style dinner.  \nLimited capacity—secure your spot today! Registration ends January 27th.  \nTickets are non-refundable.
URL:https://bapanetwork.org/event/fundraiser-social-nyc/
LOCATION:Antalia\, 17 West 45th St\, New York\, NY\, 10036\, United States
CATEGORIES:Donation,Fundraiser Socials
ATTACH;FMTTYPE=image/webp:https://bapanetwork.org/wp-content/uploads/2025/12/NYC_GettyImages-640006562.jpg.webp
END:VEVENT
BEGIN:VEVENT
DTSTART;TZID=America/Los_Angeles:20260201T180000
DTEND;TZID=America/Los_Angeles:20260201T200000
DTSTAMP:20260424T184234
CREATED:20260117T020018Z
LAST-MODIFIED:20260119T004833Z
UID:24497-1769968800-1769976000@bapanetwork.org
SUMMARY:Seattle Fundraiser Social
DESCRIPTION:Seattle\, we’re coming together! \nJoin us February 1st at Mamma Melina for a fundraiser social supporting the 2026 BAPA Scholarship Fund. This evening is about introducing the Seattle community to BAPA and our mission\, celebrating education\, and investing in the next generation. \nIt’s also a special moment to bring Seattle’s Bosnian-American community together – to connect\, network\, and share space. \nA heartfelt thank you to our friends at Mamma Melina for helping make this event possible. Enjoy an evening of connection and great food! Your ticket includes your entree and dessert from the á la carte menu\, as well as one soft drink. You have the option to choose from 12 entrees and 3 desserts on the preset menu. \nLimited capacity—secure your spot today! Registration ends January 30th.  \nTickets are non-refundable.
URL:https://bapanetwork.org/event/seattle-fundraiser/
LOCATION:Mamma Melina\, 5101 25TH AVE NE\, Seattle\, WA\, 98105\, United States
CATEGORIES:Fundraiser Socials
ATTACH;FMTTYPE=image/jpeg:https://bapanetwork.org/wp-content/uploads/2025/05/seattle_GettyImages-522616386-e1747443383987.jpg
END:VEVENT
BEGIN:VEVENT
DTSTART;TZID=America/Chicago:20260207T180000
DTEND;TZID=America/Chicago:20260207T210000
DTSTAMP:20260424T184234
CREATED:20251226T193031Z
LAST-MODIFIED:20260125T174737Z
UID:24328-1770487200-1770498000@bapanetwork.org
SUMMARY:Bowling Green\, KY Fundraiser Social
DESCRIPTION:Bowling Green\, we’re coming together! \nJoin us February 7th at Pub by Novo for a fundraiser social supporting the 2026 BAPA Scholarship Fund. This evening is about introducing the Bowling Green community to BAPA and our mission\, celebrating education\, and investing in the next generation. \nIt’s also a special moment to bring BG’s Bosnian-American community together – to connect\, network\, and share space. The success of Bowling Green’s Bosnian community is known nationwide… now it’s time to gather and build forward\, together. \nA heartfelt thank you to our friends at Pub by Novo for helping make this event possible. Enjoy an evening of connection and great food with a buffet-style dinner. Cash bar available. \nLimited capacity—secure your spot today! \nTickets are non-refundable.
URL:https://bapanetwork.org/event/fundraiser-social-bowling-green-ky/
LOCATION:Pub by Novo\, 2425 Scottsville Rd #127\, Bowling Green\, KY\, 42104\, United States
CATEGORIES:Donation,Fundraiser Socials,Networking
ATTACH;FMTTYPE=image/jpeg:https://bapanetwork.org/wp-content/uploads/2025/12/Bistro-3.jpg
END:VEVENT
BEGIN:VEVENT
DTSTART;TZID=America/Detroit:20260215T160000
DTEND;TZID=America/Detroit:20260215T200000
DTSTAMP:20260424T184234
CREATED:20260129T190105Z
LAST-MODIFIED:20260129T191919Z
UID:24611-1771171200-1771185600@bapanetwork.org
SUMMARY:Detroit BAPA x Panera Bread Fundraiser
DESCRIPTION:Join us for a community fundraiser in support of the BAPA 2026 Scholarship Fund\, which helps students and young professionals pursue higher education and career development opportunities. \nOn February 15th\, BAPA is partnering with Panera Bread in Sterling Heights for a giveback event where 25% of proceeds will be donated directly to BAPA. \nThis is an easy way to give back—just enjoy a meal and help make an impact! \nHow to Participate: \n\nOrder in-store or via the Panera app\nUse promo code FUND4U at checkout\nOR show the flyer when ordering in person\n\n25% of all qualifying sales will be donated to the BAPA Scholarship Fund  
URL:https://bapanetwork.org/event/bapa-x-panera-bread-2026-scholarship-fundraiser/
LOCATION:Panera Bread\, 36806 Van Dyke Ave\, Sterling Heights\, MI\, 48312\, United States
ATTACH;FMTTYPE=image/avif:https://bapanetwork.org/wp-content/uploads/2026/01/image.20260126.avif
END:VEVENT
BEGIN:VEVENT
DTSTART;TZID=America/Chicago:20260219T190000
DTEND;TZID=America/Chicago:20260219T200000
DTSTAMP:20260424T184234
CREATED:20251222T005722Z
LAST-MODIFIED:20251222T005722Z
UID:24293-1771527600-1771531200@bapanetwork.org
SUMMARY:Industry Specific Roundtable Series: Technology\, AI and Innovation
DESCRIPTION:Join us for our Industry Specific Roundtable for Technology\, AI and Innovation! \nThis event will be hosted by Board Members Dzenita Goletić and Lejla Begović. \nJoin our event via Zoom: \n\nMeeting ID: 836 2338 9990\nPasscode: 915878\n\n 
URL:https://bapanetwork.org/event/industry-specific-roundtable-series-technology-ai-and-innovation/
CATEGORIES:Industry Specific Roundtable Series
ATTACH;FMTTYPE=image/jpeg:https://bapanetwork.org/wp-content/uploads/2025/12/446030-1.jpg
END:VEVENT
BEGIN:VEVENT
DTSTART;TZID=America/Chicago:20260319T190000
DTEND;TZID=America/Chicago:20260319T200000
DTSTAMP:20260424T184234
CREATED:20251222T010216Z
LAST-MODIFIED:20251222T010216Z
UID:24298-1773946800-1773950400@bapanetwork.org
SUMMARY:Industry Specific Roundtable Series: Real Estate\, Architecture and Construction
DESCRIPTION:Join us for our Industry Specific Roundtable for Real Estate\, Architecture and Construction! \nThis event will be hosted by Board Member Ivona Ogramić\, cohosted by Isko Safić\, CEO Safic Mortgage. \nJoin our event via Zoom: \n\nMeeting ID: 836 2338 9990\nPasscode: 915878\n\n 
URL:https://bapanetwork.org/event/industry-specific-roundtable-series-real-estate-architecture-and-construction/
CATEGORIES:Industry Specific Roundtable Series
ATTACH;FMTTYPE=image/png:https://bapanetwork.org/wp-content/uploads/2025/12/Prime_Blog_April2025.png
END:VEVENT
BEGIN:VEVENT
DTSTART;TZID=America/Chicago:20260326T190000
DTEND;TZID=America/Chicago:20260326T200000
DTSTAMP:20260424T184234
CREATED:20260306T183513Z
LAST-MODIFIED:20260306T183513Z
UID:24832-1774551600-1774555200@bapanetwork.org
SUMMARY:Virtual Fildžan Kahve: Scholarship Application Q&A
DESCRIPTION:Have questions about our Scholarship application? Our Chair of the Scholarship Committee\, Šejla Garbo\, has the answers! \nJoin Šejla and Scholarship Committee member Elvisa Alikadić on Thursday\, March 26th at 7 PM CDT to learn more about our scholarship application! \nJoin our event via Zoom: \n\nMeeting ID: 889 9705 9015\nPasscode: 152509
URL:https://bapanetwork.org/event/virtual-fildzan-kahve-scholarship-application-qa/
CATEGORIES:Fildzan Kahve,Virtual Fildzan Kahve
ATTACH;FMTTYPE=image/jpeg:https://bapanetwork.org/wp-content/uploads/2026/03/pexels-ann-h-11183364-scaled.jpg
END:VEVENT
BEGIN:VEVENT
DTSTART;TZID=America/Chicago:20260416T190000
DTEND;TZID=America/Chicago:20260416T200000
DTSTAMP:20260424T184234
CREATED:20260325T172953Z
LAST-MODIFIED:20260325T172953Z
UID:24683-1776366000-1776369600@bapanetwork.org
SUMMARY:Industry Specific Roundtable Series: Finance\, Consulting & Business Strategy
DESCRIPTION:Join us for our Industry Specific Roundtable for Finance\, Consulting & Business Strategy! \nThis event will be hosted by Board Members Leonina Kaltak and Elvisa Alikadić. \nJoin our event via Zoom: \n\nMeeting ID: 836 2338 9990\nPasscode: 915878
URL:https://bapanetwork.org/event/industry-specific-roundtable-series-finance-consulting-business-strategy/
CATEGORIES:Industry Specific Roundtable Series
ATTACH;FMTTYPE=image/webp:https://bapanetwork.org/wp-content/uploads/2026/02/Strategic_Finance_hands_documents_750x450.webp
END:VEVENT
BEGIN:VEVENT
DTSTART;TZID=America/Chicago:20260521T190000
DTEND;TZID=America/Chicago:20260521T200000
DTSTAMP:20260424T184234
CREATED:20260325T173204Z
LAST-MODIFIED:20260325T173204Z
UID:24858-1779390000-1779393600@bapanetwork.org
SUMMARY:Industry Specific Roundtable Series: Law\, Policy & Ethics
DESCRIPTION:Join us for our Industry Specific Roundtable for Law\, Policy & Ethics! \nThis event will be hosted by Board Member Ivona Ogramić\, cohosted by Alen Cisija\, Chief Legal Officer at NHRA. \nJoin our event via Zoom: \n\nMeeting ID: 836 2338 9990\nPasscode: 915878\n\n 
URL:https://bapanetwork.org/event/industry-specific-roundtable-series-law-policy-ethics/
CATEGORIES:Industry Specific Roundtable Series
ATTACH;FMTTYPE=image/jpeg:https://bapanetwork.org/wp-content/uploads/2026/03/Ethics_Buck.jpg
END:VEVENT
BEGIN:VEVENT
DTSTART;TZID=America/Chicago:20260618T190000
DTEND;TZID=America/Chicago:20260618T200000
DTSTAMP:20260424T184234
CREATED:20260325T173506Z
LAST-MODIFIED:20260325T174648Z
UID:24865-1781809200-1781812800@bapanetwork.org
SUMMARY:Industry Specific Roundtable Series: Education\, Training\, & Workforce Development
DESCRIPTION:Join us for our Industry Specific Roundtable for Education\, Training\, & Workforce Development! \nThis event will be hosted by Board Member Ajla Dizdarević\, cohosted by: \n\nAdna Karamehić-Oates\, Director of St. Louis University’s Center for Bosnian Studies\nAdmin Husić\, Professor of Engineering at Virginia Tech and\nAmina Bjelopoljak Abaza\, Language Teacher and Founder of Learn Bosnian With Amina\nLada Kloi Gasparać\, Vice President of Organizational Culture and Learning\n\nJoin our event via Zoom: \n\nMeeting ID: 836 2338 9990\nPasscode: 915878\n\n 
URL:https://bapanetwork.org/event/industry-specific-roundtable-series-education-training-workforce-development/
CATEGORIES:Industry Specific Roundtable Series
ATTACH;FMTTYPE=image/gif:https://bapanetwork.org/wp-content/uploads/2026/03/WorkforceTraining1-775x500-1.gif
END:VEVENT
END:VCALENDAR