BEGIN:VCALENDAR
VERSION:2.0
PRODID:-//BAPA Network - ECPv6.15.20//NONSGML v1.0//EN
CALSCALE:GREGORIAN
METHOD:PUBLISH
X-ORIGINAL-URL:https://bapanetwork.org
X-WR-CALDESC:Events for BAPA Network
REFRESH-INTERVAL;VALUE=DURATION:PT1H
X-Robots-Tag:noindex
X-PUBLISHED-TTL:PT1H
BEGIN:VTIMEZONE
TZID:America/Chicago
BEGIN:DAYLIGHT
TZOFFSETFROM:-0600
TZOFFSETTO:-0500
TZNAME:CDT
DTSTART:20250309T080000
END:DAYLIGHT
BEGIN:STANDARD
TZOFFSETFROM:-0500
TZOFFSETTO:-0600
TZNAME:CST
DTSTART:20251102T070000
END:STANDARD
BEGIN:DAYLIGHT
TZOFFSETFROM:-0600
TZOFFSETTO:-0500
TZNAME:CDT
DTSTART:20260308T080000
END:DAYLIGHT
BEGIN:STANDARD
TZOFFSETFROM:-0500
TZOFFSETTO:-0600
TZNAME:CST
DTSTART:20261101T070000
END:STANDARD
BEGIN:DAYLIGHT
TZOFFSETFROM:-0600
TZOFFSETTO:-0500
TZNAME:CDT
DTSTART:20270314T080000
END:DAYLIGHT
BEGIN:STANDARD
TZOFFSETFROM:-0500
TZOFFSETTO:-0600
TZNAME:CST
DTSTART:20271107T070000
END:STANDARD
END:VTIMEZONE
BEGIN:VEVENT
DTSTART;TZID=America/Chicago:20260207T180000
DTEND;TZID=America/Chicago:20260207T210000
DTSTAMP:20260424T215929
CREATED:20251226T193031Z
LAST-MODIFIED:20260125T174737Z
UID:24328-1770487200-1770498000@bapanetwork.org
SUMMARY:Bowling Green\, KY Fundraiser Social
DESCRIPTION:Bowling Green\, we’re coming together! \nJoin us February 7th at Pub by Novo for a fundraiser social supporting the 2026 BAPA Scholarship Fund. This evening is about introducing the Bowling Green community to BAPA and our mission\, celebrating education\, and investing in the next generation. \nIt’s also a special moment to bring BG’s Bosnian-American community together – to connect\, network\, and share space. The success of Bowling Green’s Bosnian community is known nationwide… now it’s time to gather and build forward\, together. \nA heartfelt thank you to our friends at Pub by Novo for helping make this event possible. Enjoy an evening of connection and great food with a buffet-style dinner. Cash bar available. \nLimited capacity—secure your spot today! \nTickets are non-refundable.
URL:https://bapanetwork.org/event/fundraiser-social-bowling-green-ky/
LOCATION:Pub by Novo\, 2425 Scottsville Rd #127\, Bowling Green\, KY\, 42104\, United States
CATEGORIES:Donation,Fundraiser Socials,Networking
ATTACH;FMTTYPE=image/jpeg:https://bapanetwork.org/wp-content/uploads/2025/12/Bistro-3.jpg
END:VEVENT
END:VCALENDAR