BEGIN:VCALENDAR
VERSION:2.0
PRODID:-//BAPA Network - ECPv6.15.20//NONSGML v1.0//EN
CALSCALE:GREGORIAN
METHOD:PUBLISH
X-WR-CALNAME:BAPA Network
X-ORIGINAL-URL:https://bapanetwork.org
X-WR-CALDESC:Events for BAPA Network
REFRESH-INTERVAL;VALUE=DURATION:PT1H
X-Robots-Tag:noindex
X-PUBLISHED-TTL:PT1H
BEGIN:VTIMEZONE
TZID:America/Chicago
BEGIN:DAYLIGHT
TZOFFSETFROM:-0600
TZOFFSETTO:-0500
TZNAME:CDT
DTSTART:20250309T080000
END:DAYLIGHT
BEGIN:STANDARD
TZOFFSETFROM:-0500
TZOFFSETTO:-0600
TZNAME:CST
DTSTART:20251102T070000
END:STANDARD
BEGIN:DAYLIGHT
TZOFFSETFROM:-0600
TZOFFSETTO:-0500
TZNAME:CDT
DTSTART:20260308T080000
END:DAYLIGHT
BEGIN:STANDARD
TZOFFSETFROM:-0500
TZOFFSETTO:-0600
TZNAME:CST
DTSTART:20261101T070000
END:STANDARD
BEGIN:DAYLIGHT
TZOFFSETFROM:-0600
TZOFFSETTO:-0500
TZNAME:CDT
DTSTART:20270314T080000
END:DAYLIGHT
BEGIN:STANDARD
TZOFFSETFROM:-0500
TZOFFSETTO:-0600
TZNAME:CST
DTSTART:20271107T070000
END:STANDARD
END:VTIMEZONE
BEGIN:VEVENT
DTSTART;TZID=America/Chicago:20260319T190000
DTEND;TZID=America/Chicago:20260319T200000
DTSTAMP:20260424T135133
CREATED:20251222T010216Z
LAST-MODIFIED:20251222T010216Z
UID:24298-1773946800-1773950400@bapanetwork.org
SUMMARY:Industry Specific Roundtable Series: Real Estate\, Architecture and Construction
DESCRIPTION:Join us for our Industry Specific Roundtable for Real Estate\, Architecture and Construction! \nThis event will be hosted by Board Member Ivona Ogramić\, cohosted by Isko Safić\, CEO Safic Mortgage. \nJoin our event via Zoom: \n\nMeeting ID: 836 2338 9990\nPasscode: 915878\n\n 
URL:https://bapanetwork.org/event/industry-specific-roundtable-series-real-estate-architecture-and-construction/
CATEGORIES:Industry Specific Roundtable Series
ATTACH;FMTTYPE=image/png:https://bapanetwork.org/wp-content/uploads/2025/12/Prime_Blog_April2025.png
END:VEVENT
END:VCALENDAR