BEGIN:VCALENDAR
VERSION:2.0
PRODID:-//BAPA Network - ECPv6.15.20//NONSGML v1.0//EN
CALSCALE:GREGORIAN
METHOD:PUBLISH
X-ORIGINAL-URL:https://bapanetwork.org
X-WR-CALDESC:Events for BAPA Network
REFRESH-INTERVAL;VALUE=DURATION:PT1H
X-Robots-Tag:noindex
X-PUBLISHED-TTL:PT1H
BEGIN:VTIMEZONE
TZID:America/New_York
BEGIN:DAYLIGHT
TZOFFSETFROM:-0500
TZOFFSETTO:-0400
TZNAME:EDT
DTSTART:20250309T070000
END:DAYLIGHT
BEGIN:STANDARD
TZOFFSETFROM:-0400
TZOFFSETTO:-0500
TZNAME:EST
DTSTART:20251102T060000
END:STANDARD
BEGIN:DAYLIGHT
TZOFFSETFROM:-0500
TZOFFSETTO:-0400
TZNAME:EDT
DTSTART:20260308T070000
END:DAYLIGHT
BEGIN:STANDARD
TZOFFSETFROM:-0400
TZOFFSETTO:-0500
TZNAME:EST
DTSTART:20261101T060000
END:STANDARD
BEGIN:DAYLIGHT
TZOFFSETFROM:-0500
TZOFFSETTO:-0400
TZNAME:EDT
DTSTART:20270314T070000
END:DAYLIGHT
BEGIN:STANDARD
TZOFFSETFROM:-0400
TZOFFSETTO:-0500
TZNAME:EST
DTSTART:20271107T060000
END:STANDARD
END:VTIMEZONE
BEGIN:VEVENT
DTSTART;TZID=America/New_York:20260131T170000
DTEND;TZID=America/New_York:20260131T193000
DTSTAMP:20260424T152736
CREATED:20251228T215249Z
LAST-MODIFIED:20260119T004952Z
UID:24339-1769878800-1769887800@bapanetwork.org
SUMMARY:NYC Fundraiser Social
DESCRIPTION:NYC\, we’re coming together! \nJoin us January 31st at AnTalia for a fundraiser social supporting the 2026 BAPA Scholarship Fund. This evening is about introducing the NYC community to BAPA and our mission\, celebrating education\, and investing in the next generation. \nIt’s also a special moment to bring NYC’s Bosnian-American community together – to connect\, network\, and share space. \nA heartfelt thank you to our friends at AnTalia for helping make this event possible. Enjoy an evening of connection and great food with a family-style dinner.  \nLimited capacity—secure your spot today! Registration ends January 27th.  \nTickets are non-refundable.
URL:https://bapanetwork.org/event/fundraiser-social-nyc/
LOCATION:Antalia\, 17 West 45th St\, New York\, NY\, 10036\, United States
CATEGORIES:Donation,Fundraiser Socials
ATTACH;FMTTYPE=image/webp:https://bapanetwork.org/wp-content/uploads/2025/12/NYC_GettyImages-640006562.jpg.webp
END:VEVENT
END:VCALENDAR