BEGIN:VCALENDAR
VERSION:2.0
PRODID:-//BAPA Network - ECPv6.15.20//NONSGML v1.0//EN
CALSCALE:GREGORIAN
METHOD:PUBLISH
X-WR-CALNAME:BAPA Network
X-ORIGINAL-URL:https://bapanetwork.org
X-WR-CALDESC:Events for BAPA Network
REFRESH-INTERVAL;VALUE=DURATION:PT1H
X-Robots-Tag:noindex
X-PUBLISHED-TTL:PT1H
BEGIN:VTIMEZONE
TZID:America/Chicago
BEGIN:DAYLIGHT
TZOFFSETFROM:-0600
TZOFFSETTO:-0500
TZNAME:CDT
DTSTART:20250309T080000
END:DAYLIGHT
BEGIN:STANDARD
TZOFFSETFROM:-0500
TZOFFSETTO:-0600
TZNAME:CST
DTSTART:20251102T070000
END:STANDARD
BEGIN:DAYLIGHT
TZOFFSETFROM:-0600
TZOFFSETTO:-0500
TZNAME:CDT
DTSTART:20260308T080000
END:DAYLIGHT
BEGIN:STANDARD
TZOFFSETFROM:-0500
TZOFFSETTO:-0600
TZNAME:CST
DTSTART:20261101T070000
END:STANDARD
BEGIN:DAYLIGHT
TZOFFSETFROM:-0600
TZOFFSETTO:-0500
TZNAME:CDT
DTSTART:20270314T080000
END:DAYLIGHT
BEGIN:STANDARD
TZOFFSETFROM:-0500
TZOFFSETTO:-0600
TZNAME:CST
DTSTART:20271107T070000
END:STANDARD
END:VTIMEZONE
BEGIN:VEVENT
DTSTART;TZID=America/Chicago:20260118T120000
DTEND;TZID=America/Chicago:20260118T140000
DTSTAMP:20260424T165107
CREATED:20251228T195026Z
LAST-MODIFIED:20251228T195026Z
UID:24181-1768737600-1768744800@bapanetwork.org
SUMMARY:In-Person Fildžan Kahve: St. Louis\, MO
DESCRIPTION:Podnevna kahva: Fildžan priče i druženje sa Adinom i Aminom! \nJoin us for our next in-person Fildžan Kahve networking event in St. Louis! \nJoin BAPA’s Board Members at Cafe Fleur De Lis on 1/18/26 at 12PM CST. A little noon break\, Bosnian style. Come by for a Fildžan Kahve\, community\, good conversation\, and that feeling of being back home.
URL:https://bapanetwork.org/event/in-person-fildzan-kahve-st-louis-mo/
LOCATION:Cafe Fleur De Lis\, 5569 Telegraph Rd\, St. Louis\, MO\, 63129\, United States
CATEGORIES:Fildzan Kahve
ATTACH;FMTTYPE=image/jpeg:https://bapanetwork.org/wp-content/uploads/2025/12/unnamed.jpg
END:VEVENT
END:VCALENDAR